BEGIN:VCALENDAR
VERSION:2.0
PRODID:-//hacksw/handcal//NONSGML v1.0//EN
BEGIN:VEVENT
SUMMARY:Demi finale 2 R1 Qualif 45 - 3 BT45-1 contre SLB45-1
UID:fc8f722b-9421-4154-82cc-ae3cfeb2ac14
DTSTART:20260402T183000Z
DTEND:20260402T220000Z
LOCATION:Localisation   
CATEGORIES:Sportif
STATUS:
URL;VALUE=URI:https://www.sullylesbordesbadminton.fr/evenements/2026/04/02/demi-finale-2-r1-qualif-45-3-bt45-1-contre-slb45-1-2436633
END:VEVENT
END:VCALENDAR
