BEGIN:VCALENDAR
VERSION:2.0
PRODID:-//hacksw/handcal//NONSGML v1.0//EN
BEGIN:VEVENT
SUMMARY:D2 classement-10-12 45-AASC-1 D2 contre 45-SLB-1 D2
UID:50a64c2c-2904-4d0b-8d21-5f99d40e7b9c
DTSTART:20260518T170000Z
DTEND:20260518T220000Z
LOCATION:Localisation   
CATEGORIES:Sportif
STATUS:
URL;VALUE=URI:https://www.sullylesbordesbadminton.fr/evenements/2026/05/18/d2-classement-10-12-45-aasc-1-d2-contre-45-slb-1-d2-2438894
END:VEVENT
END:VCALENDAR
