BEGIN:VCALENDAR
VERSION:2.0
PRODID:-//hacksw/handcal//NONSGML v1.0//EN
BEGIN:VEVENT
SUMMARY:D2 classement-10-12 45-SLB-1 D2 contre 45-ABP-1 D2
UID:b262343c-87cc-4958-ad84-b3f11e1cd141
DTSTART:20260607T220000Z
DTEND:20260608T220000Z
LOCATION:Localisation   
CATEGORIES:Sportif
STATUS:
URL;VALUE=URI:https://www.sullylesbordesbadminton.fr/evenements/2026/06/08/d2-classement-10-12-45-slb-1-d2-contre-45-abp-1-d2-2438895
END:VEVENT
END:VCALENDAR
